BEGIN:VCALENDAR
VERSION:2.0
PRODID:-//coinpaprika.com/NONSGML v1.0//EN
BEGIN:VEVENT
UID:event184677@coinpaprika.com
DTSTAMP:20260326T000000Z
DTSTART:20260326T000000Z
DTEND:20260326T000000Z
SUMMARY:Trust Wallet Agent Kit
DESCRIPTION:https://coinmarketcal.com/event/trust-wallet-agent-kit-322554
END:VEVENT
END:VCALENDAR