BEGIN:VCALENDAR
VERSION:2.0
PRODID:-//coinpaprika.com/NONSGML v1.0//EN
BEGIN:VEVENT
UID:event184509@coinpaprika.com
DTSTAMP:20260331T000000Z
DTSTART:20260331T000000Z
DTEND:20260331T000000Z
SUMMARY:Town Hall #5
DESCRIPTION:https://coinmarketcal.com/event/town-hall-5-322133
END:VEVENT
END:VCALENDAR