BEGIN:VCALENDAR
VERSION:2.0
PRODID:-//coinpaprika.com/NONSGML v1.0//EN
BEGIN:VEVENT
UID:event184395@coinpaprika.com
DTSTAMP:20260324T000000Z
DTSTART:20260324T000000Z
DTEND:20260324T000000Z
SUMMARY:Digital Asset Summit 2026
DESCRIPTION:https://coinmarketcal.com/event/digital-asset-summit-2026-315343
END:VEVENT
END:VCALENDAR