BEGIN:VCALENDAR
VERSION:2.0
PRODID:-//coinpaprika.com/NONSGML v1.0//EN
BEGIN:VEVENT
UID:event184391@coinpaprika.com
DTSTAMP:20260320T000000Z
DTSTART:20260320T000000Z
DTEND:20260320T000000Z
SUMMARY:Alpha Leaks Stream
DESCRIPTION:https://coinmarketcal.com/event/alpha-leaks-stream-321774
END:VEVENT
END:VCALENDAR