BEGIN:VCALENDAR
VERSION:2.0
PRODID:-//coinpaprika.com/NONSGML v1.0//EN
BEGIN:VEVENT
UID:event184273@coinpaprika.com
DTSTAMP:20260318T000000Z
DTSTART:20260318T000000Z
DTEND:20260318T000000Z
SUMMARY:Buy-Wall Floor Epoch
DESCRIPTION:https://coinmarketcal.com/event/buy-wall-floor-epoch-321452
END:VEVENT
END:VCALENDAR