BEGIN:VCALENDAR
VERSION:2.0
PRODID:-//coinpaprika.com/NONSGML v1.0//EN
BEGIN:VEVENT
UID:event184187@coinpaprika.com
DTSTAMP:20260317T000000Z
DTSTART:20260317T000000Z
DTEND:20260317T000000Z
SUMMARY:Community Call
DESCRIPTION:https://coinmarketcal.com/event/community-call-321346
END:VEVENT
END:VCALENDAR