BEGIN:VCALENDAR
VERSION:2.0
PRODID:-//coinpaprika.com/NONSGML v1.0//EN
BEGIN:VEVENT
UID:event184179@coinpaprika.com
DTSTAMP:20260318T000000Z
DTSTART:20260318T000000Z
DTEND:20260318T000000Z
SUMMARY:$158K Token Burn
DESCRIPTION:https://coinmarketcal.com/event/158k-token-burn-321358
END:VEVENT
END:VCALENDAR