BEGIN:VCALENDAR
VERSION:2.0
PRODID:-//coinpaprika.com/NONSGML v1.0//EN
BEGIN:VEVENT
UID:event184171@coinpaprika.com
DTSTAMP:20260317T000000Z
DTSTART:20260317T000000Z
DTEND:20260317T000000Z
SUMMARY:ZenIP-42408 Vote
DESCRIPTION:https://coinmarketcal.com/event/zenip42408-vote-opens-320268
END:VEVENT
END:VCALENDAR