BEGIN:VCALENDAR
VERSION:2.0
PRODID:-//coinpaprika.com/NONSGML v1.0//EN
BEGIN:VEVENT
UID:event184165@coinpaprika.com
DTSTAMP:20260319T000000Z
DTSTART:20260319T000000Z
DTEND:20260319T000000Z
SUMMARY:BLI Summit
DESCRIPTION:https://coinmarketcal.com/event/bli-summit-321241
END:VEVENT
END:VCALENDAR