BEGIN:VCALENDAR
VERSION:2.0
PRODID:-//coinpaprika.com/NONSGML v1.0//EN
BEGIN:VEVENT
UID:event184161@coinpaprika.com
DTSTAMP:20260318T000000Z
DTSTART:20260318T000000Z
DTEND:20260318T000000Z
SUMMARY:DigiScope AMA
DESCRIPTION:https://coinmarketcal.com/event/digiscope-ama-321228
END:VEVENT
END:VCALENDAR