BEGIN:VCALENDAR
VERSION:2.0
PRODID:-//coinpaprika.com/NONSGML v1.0//EN
BEGIN:VEVENT
UID:event184123@coinpaprika.com
DTSTAMP:20260317T000000Z
DTSTART:20260317T000000Z
DTEND:20260317T000000Z
SUMMARY:State of Mind Ep. 07
DESCRIPTION:https://coinmarketcal.com/event/state-of-mind-ep-07-321044
END:VEVENT
END:VCALENDAR