BEGIN:VCALENDAR
VERSION:2.0
PRODID:-//coinpaprika.com/NONSGML v1.0//EN
BEGIN:VEVENT
UID:event184003@coinpaprika.com
DTSTAMP:20260310T000000Z
DTSTART:20260310T000000Z
DTEND:20260310T000000Z
SUMMARY:ZenIP42408 Vote Opens
DESCRIPTION:https://coinmarketcal.com/event/zenip42408-vote-opens-320268
END:VEVENT
END:VCALENDAR