BEGIN:VCALENDAR
VERSION:2.0
PRODID:-//coinpaprika.com/NONSGML v1.0//EN
BEGIN:VEVENT
UID:event183917@coinpaprika.com
DTSTAMP:20260305T000000Z
DTSTART:20260305T000000Z
DTEND:20260305T000000Z
SUMMARY:Liquid Editions
DESCRIPTION:https://coinmarketcal.com/event/liquid-editions-319919
END:VEVENT
END:VCALENDAR