BEGIN:VCALENDAR
VERSION:2.0
PRODID:-//coinpaprika.com/NONSGML v1.0//EN
BEGIN:VEVENT
UID:event183853@coinpaprika.com
DTSTAMP:20260304T000000Z
DTSTART:20260304T000000Z
DTEND:20260304T000000Z
SUMMARY:March Town Hall
DESCRIPTION:https://coinmarketcal.com/event/march-town-hall-319610
END:VEVENT
END:VCALENDAR