BEGIN:VCALENDAR
VERSION:2.0
PRODID:-//coinpaprika.com/NONSGML v1.0//EN
BEGIN:VEVENT
UID:event183847@coinpaprika.com
DTSTAMP:20260303T000000Z
DTSTART:20260303T000000Z
DTEND:20260303T000000Z
SUMMARY:Agent Skills
DESCRIPTION:https://coinmarketcal.com/event/agent-skills-319653
END:VEVENT
END:VCALENDAR