BEGIN:VCALENDAR
VERSION:2.0
PRODID:-//coinpaprika.com/NONSGML v1.0//EN
BEGIN:VEVENT
UID:event183845@coinpaprika.com
DTSTAMP:20260303T000000Z
DTSTART:20260303T000000Z
DTEND:20260303T000000Z
SUMMARY:Mainnet V7.4.0
DESCRIPTION:https://coinmarketcal.com/event/mainnet-v7-4-0-319659
END:VEVENT
END:VCALENDAR