BEGIN:VCALENDAR
VERSION:2.0
PRODID:-//coinpaprika.com/NONSGML v1.0//EN
BEGIN:VEVENT
UID:event183829@coinpaprika.com
DTSTAMP:20260306T000000Z
DTSTART:20260306T000000Z
DTEND:20260306T000000Z
SUMMARY:Talk with CoinW
DESCRIPTION:https://coinmarketcal.com/event/talk-with-coinw-319635
END:VEVENT
END:VCALENDAR