BEGIN:VCALENDAR
VERSION:2.0
PRODID:-//coinpaprika.com/NONSGML v1.0//EN
BEGIN:VEVENT
UID:event183815@coinpaprika.com
DTSTAMP:20260303T000000Z
DTSTART:20260303T000000Z
DTEND:20260303T000000Z
SUMMARY:Privacy Paradigm Talk
DESCRIPTION:https://coinmarketcal.com/event/privacy-paradigm-talk-319544
END:VEVENT
END:VCALENDAR