BEGIN:VCALENDAR
VERSION:2.0
PRODID:-//coinpaprika.com/NONSGML v1.0//EN
BEGIN:VEVENT
UID:event183811@coinpaprika.com
DTSTAMP:20260305T000000Z
DTSTART:20260305T000000Z
DTEND:20260305T000000Z
SUMMARY:Community Call & Q&A
DESCRIPTION:https://coinmarketcal.com/event/community-call-q-a-319587
END:VEVENT
END:VCALENDAR