BEGIN:VCALENDAR
VERSION:2.0
PRODID:-//coinpaprika.com/NONSGML v1.0//EN
BEGIN:VEVENT
UID:event183795@coinpaprika.com
DTSTAMP:20260304T000000Z
DTSTART:20260304T000000Z
DTEND:20260304T000000Z
SUMMARY:Market Wind Down Vote
DESCRIPTION:https://coinmarketcal.com/event/market-wind-down-vote-319507
END:VEVENT
END:VCALENDAR