BEGIN:VCALENDAR
VERSION:2.0
PRODID:-//coinpaprika.com/NONSGML v1.0//EN
BEGIN:VEVENT
UID:event183751@coinpaprika.com
DTSTAMP:20260308T000000Z
DTSTART:20260308T000000Z
DTEND:20260308T000000Z
SUMMARY:Buyback & Burn
DESCRIPTION:https://coinmarketcal.com/event/buyback-burn-319183
END:VEVENT
END:VCALENDAR