BEGIN:VCALENDAR
VERSION:2.0
PRODID:-//coinpaprika.com/NONSGML v1.0//EN
BEGIN:VEVENT
UID:event183749@coinpaprika.com
DTSTAMP:20260308T000000Z
DTSTART:20260308T000000Z
DTEND:20260308T000000Z
SUMMARY:Seoul Community Meetup
DESCRIPTION:https://coinmarketcal.com/event/seoul-community-meetup-317757
END:VEVENT
END:VCALENDAR