BEGIN:VCALENDAR
VERSION:2.0
PRODID:-//coinpaprika.com/NONSGML v1.0//EN
BEGIN:VEVENT
UID:event183725@coinpaprika.com
DTSTAMP:20260306T000000Z
DTSTART:20260306T000000Z
DTEND:20260306T000000Z
SUMMARY:TX TGE
DESCRIPTION:https://coinmarketcal.com/event/tx-tge-316699
END:VEVENT
END:VCALENDAR