BEGIN:VCALENDAR
VERSION:2.0
PRODID:-//coinpaprika.com/NONSGML v1.0//EN
BEGIN:VEVENT
UID:event183043@coinpaprika.com
DTSTAMP:20260218T000000Z
DTSTART:20260218T000000Z
DTEND:20260218T000000Z
SUMMARY:Saturn One Upgrade
DESCRIPTION:https://coinmarketcal.com/event/saturn-one-upgrade-317266
END:VEVENT
END:VCALENDAR