BEGIN:VCALENDAR
VERSION:2.0
PRODID:-//coinpaprika.com/NONSGML v1.0//EN
BEGIN:VEVENT
UID:event182957@coinpaprika.com
DTSTAMP:20260217T000000Z
DTSTART:20260217T000000Z
DTEND:20260217T000000Z
SUMMARY:Privacy-First Spaces
DESCRIPTION:https://coinmarketcal.com/event/privacy-first-spaces-317227
END:VEVENT
END:VCALENDAR