BEGIN:VCALENDAR
VERSION:2.0
PRODID:-//coinpaprika.com/NONSGML v1.0//EN
BEGIN:VEVENT
UID:event182927@coinpaprika.com
DTSTAMP:20260210T000000Z
DTSTART:20260210T000000Z
DTEND:20260210T000000Z
SUMMARY:Kobaru
DESCRIPTION:https://coinmarketcal.com/event/kobaru-317089
END:VEVENT
END:VCALENDAR