BEGIN:VCALENDAR
VERSION:2.0
PRODID:-//coinpaprika.com/NONSGML v1.0//EN
BEGIN:VEVENT
UID:event182633@coinpaprika.com
DTSTAMP:20260210T000000Z
DTSTART:20260210T000000Z
DTEND:20260210T000000Z
SUMMARY:Consensus Hong Kong 2026
DESCRIPTION:https://coinmarketcal.com/event/consensus-hong-kong-2026-312939
END:VEVENT
END:VCALENDAR