BEGIN:VCALENDAR
VERSION:2.0
PRODID:-//coinpaprika.com/NONSGML v1.0//EN
BEGIN:VEVENT
UID:event182399@coinpaprika.com
DTSTAMP:20260130T000000Z
DTSTART:20260130T000000Z
DTEND:20260130T000000Z
SUMMARY:Offchain Hours
DESCRIPTION:https://coinmarketcal.com/event/offchain-hours-live-315089
END:VEVENT
END:VCALENDAR