BEGIN:VCALENDAR
VERSION:2.0
PRODID:-//coinpaprika.com/NONSGML v1.0//EN
BEGIN:VEVENT
UID:event182369@coinpaprika.com
DTSTAMP:20260126T000000Z
DTSTART:20260126T000000Z
DTEND:20260126T000000Z
SUMMARY:LIT-USD Cross Vote
DESCRIPTION:https://coinmarketcal.com/event/lit-usd-cross-vote-314956
END:VEVENT
END:VCALENDAR