BEGIN:VCALENDAR
VERSION:2.0
PRODID:-//coinpaprika.com/NONSGML v1.0//EN
BEGIN:VEVENT
UID:event182365@coinpaprika.com
DTSTAMP:20260201T000000Z
DTSTART:20260201T000000Z
DTEND:20260201T000000Z
SUMMARY:Simplified Payments & SDK
DESCRIPTION:https://coinmarketcal.com/event/simplified-payments-sdk-311608
END:VEVENT
END:VCALENDAR