BEGIN:VCALENDAR
VERSION:2.0
PRODID:-//coinpaprika.com/NONSGML v1.0//EN
BEGIN:VEVENT
UID:event182345@coinpaprika.com
DTSTAMP:20260131T000000Z
DTSTART:20260131T000000Z
DTEND:20260131T000000Z
SUMMARY:2030 Vision Reveal
DESCRIPTION:https://coinmarketcal.com/event/2030-vision-reveal-312122
END:VEVENT
END:VCALENDAR