BEGIN:VCALENDAR
VERSION:2.0
PRODID:-//coinpaprika.com/NONSGML v1.0//EN
BEGIN:VEVENT
UID:event182205@coinpaprika.com
DTSTAMP:20260128T000000Z
DTSTART:20260128T000000Z
DTEND:20260128T000000Z
SUMMARY:53.47MM Token Unlock
DESCRIPTION:https://coinmarketcal.com/event/53-47mm-token-unlock-312921
END:VEVENT
END:VCALENDAR