BEGIN:VCALENDAR
VERSION:2.0
PRODID:-//coinpaprika.com/NONSGML v1.0//EN
BEGIN:VEVENT
UID:event182137@coinpaprika.com
DTSTAMP:20260120T000000Z
DTSTART:20260120T000000Z
DTEND:20260120T000000Z
SUMMARY:IIP-617 Vote Ends
DESCRIPTION:https://coinmarketcal.com/event/iip-617-vote-ends-313851
END:VEVENT
END:VCALENDAR