BEGIN:VCALENDAR
VERSION:2.0
PRODID:-//coinpaprika.com/NONSGML v1.0//EN
BEGIN:VEVENT
UID:event181951@coinpaprika.com
DTSTAMP:20260120T000000Z
DTSTART:20260120T000000Z
DTEND:20260120T000000Z
SUMMARY:World Computer Day
DESCRIPTION:https://coinmarketcal.com/event/world-computer-day-311378
END:VEVENT
END:VCALENDAR