BEGIN:VCALENDAR
VERSION:2.0
PRODID:-//coinpaprika.com/NONSGML v1.0//EN
BEGIN:VEVENT
UID:event181831@coinpaprika.com
DTSTAMP:20260115T000000Z
DTSTART:20260115T000000Z
DTEND:20260115T000000Z
SUMMARY:Token Migration Deadline
DESCRIPTION:https://coinmarketcal.com/event/token-migration-deadline-292190
END:VEVENT
END:VCALENDAR