BEGIN:VCALENDAR
VERSION:2.0
PRODID:-//coinpaprika.com/NONSGML v1.0//EN
BEGIN:VEVENT
UID:event181209@coinpaprika.com
DTSTAMP:20251217T000000Z
DTSTART:20251217T000000Z
DTEND:20251217T000000Z
SUMMARY:Skale School
DESCRIPTION:https://coinmarketcal.com/event/skale-school-310094
END:VEVENT
END:VCALENDAR