BEGIN:VCALENDAR
VERSION:2.0
PRODID:-//coinpaprika.com/NONSGML v1.0//EN
BEGIN:VEVENT
UID:event181199@coinpaprika.com
DTSTAMP:20251222T000000Z
DTSTART:20251222T000000Z
DTEND:20251222T000000Z
SUMMARY:AIP-004 Vote
DESCRIPTION:https://coinmarketcal.com/event/aip-004-vote-308879
END:VEVENT
END:VCALENDAR