BEGIN:VCALENDAR
VERSION:2.0
PRODID:-//coinpaprika.com/NONSGML v1.0//EN
BEGIN:VEVENT
UID:event181187@coinpaprika.com
DTSTAMP:20251220T000000Z
DTSTART:20251220T000000Z
DTEND:20251220T000000Z
SUMMARY:Vote #194
DESCRIPTION:https://coinmarketcal.com/event/vote-194-310047
END:VEVENT
END:VCALENDAR