BEGIN:VCALENDAR
VERSION:2.0
PRODID:-//coinpaprika.com/NONSGML v1.0//EN
BEGIN:VEVENT
UID:event181185@coinpaprika.com
DTSTAMP:20251216T000000Z
DTSTART:20251216T000000Z
DTEND:20251216T000000Z
SUMMARY:Binance TR Listing
DESCRIPTION:https://coinmarketcal.com/event/binance-tr-listing-310082
END:VEVENT
END:VCALENDAR