BEGIN:VCALENDAR
VERSION:2.0
PRODID:-//coinpaprika.com/NONSGML v1.0//EN
BEGIN:VEVENT
UID:event181171@coinpaprika.com
DTSTAMP:20251217T000000Z
DTSTART:20251217T000000Z
DTEND:20251217T000000Z
SUMMARY:BNB Chain 2026 AMA
DESCRIPTION:https://coinmarketcal.com/event/bnb-chain-2026-ama-310112
END:VEVENT
END:VCALENDAR