BEGIN:VCALENDAR
VERSION:2.0
PRODID:-//coinpaprika.com/NONSGML v1.0//EN
BEGIN:VEVENT
UID:event181167@coinpaprika.com
DTSTAMP:20251216T000000Z
DTSTART:20251216T000000Z
DTEND:20251216T000000Z
SUMMARY:DMCC
DESCRIPTION:https://coinmarketcal.com/event/dmcc-310140
END:VEVENT
END:VCALENDAR