BEGIN:VCALENDAR
VERSION:2.0
PRODID:-//coinpaprika.com/NONSGML v1.0//EN
BEGIN:VEVENT
UID:event180967@coinpaprika.com
DTSTAMP:20251217T000000Z
DTSTART:20251217T000000Z
DTEND:20251217T000000Z
SUMMARY:Binance Delisting
DESCRIPTION:https://coinmarketcal.com/event/binance-delisting-307899
END:VEVENT
END:VCALENDAR