BEGIN:VCALENDAR
VERSION:2.0
PRODID:-//coinpaprika.com/NONSGML v1.0//EN
BEGIN:VEVENT
UID:event180605@coinpaprika.com
DTSTAMP:20251210T000000Z
DTSTART:20251210T000000Z
DTEND:20251210T000000Z
SUMMARY:Super Day
DESCRIPTION:https://coinmarketcal.com/event/super-day-307658
END:VEVENT
END:VCALENDAR