BEGIN:VCALENDAR
VERSION:2.0
PRODID:-//coinpaprika.com/NONSGML v1.0//EN
BEGIN:VEVENT
UID:event180439@coinpaprika.com
DTSTAMP:20251208T000000Z
DTSTART:20251208T000000Z
DTEND:20251208T000000Z
SUMMARY:Halving
DESCRIPTION:https://coinmarketcal.com/event/halving-307444
END:VEVENT
END:VCALENDAR