BEGIN:VCALENDAR
VERSION:2.0
PRODID:-//coinpaprika.com/NONSGML v1.0//EN
BEGIN:VEVENT
UID:event179943@coinpaprika.com
DTSTAMP:20251124T000000Z
DTSTART:20251124T000000Z
DTEND:20251124T000000Z
SUMMARY:DAO Council Nominations
DESCRIPTION:https://coinmarketcal.com/event/dao-council-nominations-305568
END:VEVENT
END:VCALENDAR