BEGIN:VCALENDAR
VERSION:2.0
PRODID:-//coinpaprika.com/NONSGML v1.0//EN
BEGIN:VEVENT
UID:event184839@coinpaprika.com
DTSTAMP:20260402T000000Z
DTSTART:20260402T000000Z
DTEND:20260402T000000Z
SUMMARY:Anon Wallet Talk
DESCRIPTION:https://coinmarketcal.com/event/anon-wallet-talk-323045
END:VEVENT
END:VCALENDAR