BEGIN:VCALENDAR
VERSION:2.0
PRODID:-//coinpaprika.com/NONSGML v1.0//EN
BEGIN:VEVENT
UID:event183973@coinpaprika.com
DTSTAMP:20260307T000000Z
DTSTART:20260307T000000Z
DTEND:20260307T000000Z
SUMMARY:Prop #357 Vote
DESCRIPTION:https://coinmarketcal.com/event/prop-357-vote-319992
END:VEVENT
END:VCALENDAR