BEGIN:VCALENDAR
VERSION:2.0
PRODID:-//coinpaprika.com/NONSGML v1.0//EN
BEGIN:VEVENT
UID:event183861@coinpaprika.com
DTSTAMP:20260311T000000Z
DTSTART:20260311T000000Z
DTEND:20260311T000000Z
SUMMARY:Xertraverse
DESCRIPTION:https://coinmarketcal.com/event/xertraverse-launch-319579
END:VEVENT
END:VCALENDAR