BEGIN:VCALENDAR
VERSION:2.0
PRODID:-//coinpaprika.com/NONSGML v1.0//EN
BEGIN:VEVENT
UID:event183851@coinpaprika.com
DTSTAMP:20260303T000000Z
DTSTART:20260303T000000Z
DTEND:20260303T000000Z
SUMMARY:Arena Patch 1.171
DESCRIPTION:https://coinmarketcal.com/event/arena-patch-1-171-319675
END:VEVENT
END:VCALENDAR